- Раздел: Другое, разное
- Дата съёмки: 02.08.2008 14:03
- Дата загрузки фото: 08.11.2008 22:59
- Оригинальная фотография: 2789 x 4312 (6,7 Мб)
- Технические характеристики:
- Фотоаппарат: Canon EOS 5D
- Выдержка: 1/750
- Гиперфокальное расстояние: 3,34 m
- Диафрагма: 8,0
- Светочувствительность: 200
- Фокусное расстояние: 28,0 mm (35 mm equivalent: 28,7 mm)
- Полный EXIF
- Adobe
- ColorTransform: YCbCr
- Composite
- Aperture: 8,0
- CircleOfConfusion: 0,029 mm
- FOV: 64,0 deg
- FocalLength35efl: 28,0 mm (35 mm equivalent: 28,7 mm)
- HyperfocalDistance: 3,34 m
- ScaleFactor35efl: 1,0
- ShutterSpeed: 1/750
- ExifIFD
- ApertureValue: 8,0
- CreateDate: 2008:08:02 14:03:06
- CustomRendered: Normal
- DateTimeOriginal: 2008:08:02 14:03:06
- ExposureCompensation: 0
- ExposureMode: Auto
- ExposureProgram: Aperture-priority AE
- ExposureTime: 1/750
- FNumber: 8,0
- Flash: Off
- FocalLength: 28,0 mm
- ISO: 200
- MaxApertureValue: 3,7
- MeteringMode: Unknown
- SceneCaptureType: Standard
- ShutterSpeedValue: 1/750
- WhiteBalance: Auto
- ICC-header
- ICC-meas
- ICC-view
- IFD0
- Make: Canon
- Model: Canon EOS 5D
- ModifyDate: 2008:11:08 22:21:53
- XMP-aux
- Firmware: 1.1.1
- FlashCompensation: 0
- ImageNumber: 2
- Lens: EF28-105mm f/3.5-4.5 USM
- LensInfo: 28/1 105/1 0/0 0/0
- SerialNumber: 1130701163
- XMP-crs
- AlreadyApplied: True
- BlueHue: 0
- BlueSaturation: 0
- Brightness: +50
- CameraProfile: ACR 4.4
- ChromaticAberrationB: 0
- ChromaticAberrationR: 0
- Clarity: +20
- ColorNoiseReduction: 25
- Contrast: +16
- ConvertToGrayscale: False
- CropAngle: 1.13827
- CropBottom: 0.986937
- CropHeight: 2789
- CropLeft: 0.012683
- CropRight: 0.986927
- CropTop: 0
- CropUnit: 0
- CropWidth: 4312
- Defringe: 0
- Exposure: 0.00
- FillLight: 21
- GreenHue: 0
- GreenSaturation: 0
- HasCrop: True
- HasSettings: True
- HighlightRecovery: 0
- HueAdjustmentAqua: +17
- HueAdjustmentBlue: 0
- HueAdjustmentGreen: +36
- HueAdjustmentMagenta: 0
- HueAdjustmentOrange: 0
- HueAdjustmentPurple: 0
- HueAdjustmentRed: 0
- HueAdjustmentYellow: +2
- LuminanceAdjustmentAqua: 0
- LuminanceAdjustmentBlue: 0
- LuminanceAdjustmentGreen: -48
- LuminanceAdjustmentMagenta: 0
- LuminanceAdjustmentOrange: 0
- LuminanceAdjustmentPurple: 0
- LuminanceAdjustmentRed: 0
- LuminanceAdjustmentYellow: +2
- LuminanceSmoothing: 0
- ParametricDarks: 0
- ParametricHighlightSplit: 75
- ParametricHighlights: 0
- ParametricLights: 0
- ParametricMidtoneSplit: 50
- ParametricShadowSplit: 25
- ParametricShadows: 0
- PostCropVignetteAmount: 0
- RedHue: 0
- RedSaturation: 0
- Saturation: 0
- SaturationAdjustmentAqua: 0
- SaturationAdjustmentBlue: 0
- SaturationAdjustmentGreen: +33
- SaturationAdjustmentMagenta: 0
- SaturationAdjustmentOrange: 0
- SaturationAdjustmentPurple: 0
- SaturationAdjustmentRed: 0
- SaturationAdjustmentYellow: +69
- ShadowTint: 0
- Shadows: 14
- SharpenDetail: 25
- SharpenEdgeMasking: 0
- SharpenRadius: +1.0
- Sharpness: 25
- SplitToningBalance: 0
- SplitToningHighlightHue: 0
- SplitToningHighlightSaturation: 0
- SplitToningShadowHue: 0
- SplitToningShadowSaturation: 0
- Temperature: 5450
- Tint: +3
- ToneCurve: 0, 0, 32, 22, 64, 56, 128, 128, 192, 196, 255, 255
- ToneCurveName: Medium Contrast
- Version: 4.6
- Vibrance: 0
- VignetteAmount: 0
- WhiteBalance: As Shot
- XMP-exif
- DateTimeDigitized: 2008:08:02 14:03:06+04:00
- DateTimeOriginal: 2008:08:02 14:03:06+04:00
- ExifImageHeight: 4312
- ExifImageWidth: 2789
- FlashFired: False
- FlashFunction: False
- FlashMode: Off
- FlashRedEyeMode: False
- FlashReturn: No return detection
- XMP-tiff
- ImageHeight: 4312
- ImageWidth: 2789
- XMP-xmp
- CreateDate: 2008:08:02 14:03:06+04:00
- ModifyDate: 2008:11:08 22:21:53+03:00