- Раздел: Тесты фототехники
- Дата съёмки: 07.12.2009 16:52
- Дата загрузки фото: 28.05.2010 00:54
- Оригинальная фотография: 3000 x 1999 (1,7 Мб)
- Технические характеристики:
- Фотоаппарат: Sony DSLR-A900
- Выдержка: 1/160
- Гиперфокальное расстояние: inf m
- Диафрагма: 5,0
- Светочувствительность: 320
- Фокусное расстояние: 20,0 mm (35 mm equivalent: 20,0 mm)
- Экспокоррекция: -0,3
- Полный EXIF
- Adobe
- ColorTransform: YCbCr
- Composite
- Aperture: 5,0
- CircleOfConfusion: 0,030 mm
- FOV: 83,0 deg
- FocalLength35efl: 20,0 mm (35 mm equivalent: 20,0 mm)
- HyperfocalDistance: inf m
- ScaleFactor35efl: 1,0
- ShutterSpeed: 1/160
- ExifIFD
- ApertureValue: 5,0
- BrightnessValue: 4,87
- ColorSpace: sRGB
- Contrast: Normal
- CreateDate: 2009:12:07 16:52:39
- CustomRendered: Normal
- DateTimeOriginal: 2009:12:07 16:52:39
- ExifImageHeight: 1999
- ExifImageWidth: 3000
- ExposureCompensation: -0,3
- ExposureMode: Auto
- ExposureProgram: Aperture-priority AE
- ExposureTime: 1/160
- FNumber: 5,0
- Flash: Off, Did not fire
- FocalLength: 20,0 mm
- FocalLengthIn35mmFormat: 20 mm
- ISO: 320
- LightSource: Unknown
- MaxApertureValue: 2,8
- MeteringMode: Multi-segment
- Saturation: Normal
- SceneCaptureType: Standard
- SceneType: Directly photographed
- Sharpness: Normal
- ShutterSpeedValue: 1/160
- WhiteBalance: Auto
- ICC-header
- ICC-meas
- ICC-view
- IFD0
- Artist: Kirill Krylov
- BitsPerSample: 16 16 16
- Copyright: all wrights reserved by Kirill Krylov
- ImageDescription: San Francisco
- ImageHeight: 3943
- ImageWidth: 5916
- Make: SONY
- Model: DSLR-A900
- ModifyDate: 2010:05:27 13:51:50
- Orientation: Horizontal (normal)
- PhotometricInterpretation: RGB
- PlanarConfiguration: Chunky
- SamplesPerPixel: 3
- IFD1
- IPTC
- By-line: Kirill Krylov
- Caption-Abstract: San Francisco
- City: San Francisco
- CopyrightNotice: all wrights reserved by Kirill Krylov
- Country-PrimaryLocationName: USA
- DateCreated: 2007:11:20
- Keywords: 2010, California, Krylov Kirill, Los Angeles, Places, USA, Venice Beach
- Province-State: California
- Sub-location: Northbeach
- System
- XMP-aux
- Lens: 16-35mm F2.8 ZA SSM
- LensID: 54
- LensInfo: 16/1 35/1 28/1 28/1
- XMP-crs
- AlreadyApplied: True
- BlueHue: 0
- BlueSaturation: 0
- Brightness: +61
- ChromaticAberrationB: -2
- ChromaticAberrationR: -24
- Clarity: +43
- ColorNoiseReduction: 27
- Contrast: +62
- ConvertToGrayscale: False
- CropAngle: -0.860242
- CropBottom: 0.977973
- CropHeight: 3943
- CropLeft: 0.006119
- CropRight: 0.993881
- CropTop: 0.022027
- CropUnit: pixels
- CropWidth: 5916
- Defringe: 1
- Exposure: +0.08
- FillLight: 11
- GreenHue: 0
- GreenSaturation: 0
- HasCrop: True
- HasSettings: True
- HighlightRecovery: 0
- HueAdjustmentAqua: 0
- HueAdjustmentBlue: 0
- HueAdjustmentGreen: 0
- HueAdjustmentMagenta: 0
- HueAdjustmentOrange: 0
- HueAdjustmentPurple: 0
- HueAdjustmentRed: 0
- HueAdjustmentYellow: 0
- LuminanceAdjustmentAqua: 0
- LuminanceAdjustmentBlue: 0
- LuminanceAdjustmentGreen: 0
- LuminanceAdjustmentMagenta: 0
- LuminanceAdjustmentOrange: 0
- LuminanceAdjustmentPurple: 0
- LuminanceAdjustmentRed: 0
- LuminanceAdjustmentYellow: 0
- LuminanceSmoothing: 18
- ParametricDarks: 0
- ParametricHighlightSplit: 75
- ParametricHighlights: 0
- ParametricLights: 0
- ParametricMidtoneSplit: 50
- ParametricShadowSplit: 25
- ParametricShadows: 0
- PostCropVignetteAmount: 0
- RedHue: 0
- RedSaturation: 0
- Saturation: +8
- SaturationAdjustmentAqua: 0
- SaturationAdjustmentBlue: 0
- SaturationAdjustmentGreen: 0
- SaturationAdjustmentMagenta: 0
- SaturationAdjustmentOrange: 0
- SaturationAdjustmentPurple: 0
- SaturationAdjustmentRed: 0
- SaturationAdjustmentYellow: 0
- ShadowTint: 0
- Shadows: 1
- SharpenDetail: 50
- SharpenEdgeMasking: 19
- SharpenRadius: +0.8
- Sharpness: 35
- SplitToningBalance: 0
- SplitToningHighlightHue: 0
- SplitToningHighlightSaturation: 0
- SplitToningShadowHue: 0
- SplitToningShadowSaturation: 0
- Temperature: 4050
- Tint: +7
- ToneCurve: 0, 0, 32, 22, 64, 56, 128, 128, 192, 196, 255, 255
- ToneCurveName: Medium Contrast
- Version: 5.7
- Vibrance: +14
- VignetteAmount: 0
- WhiteBalance: As Shot
- XMP-dc
- Creator: Kirill Krylov
- Description: San Francisco
- Format: image/jpeg
- Rights: all wrights reserved by Kirill Krylov
- Subject: 2010, California, Krylov Kirill, Los Angeles, Places, USA, Venice Beach
- XMP-exif
- DateTimeDigitized: 2009:12:07 16:52:39-08:00
- DateTimeOriginal: 2009:12:07 16:52:39-08:00
- FlashFired: False
- FlashFunction: False
- FlashMode: Off
- FlashRedEyeMode: False
- FlashReturn: No return detection
- XMP-iptcCore
- CreatorAddress: 655 Heather court
- CreatorCity: Pacifica
- CreatorCountry: USA
- CreatorPostalCode: 94044
- CreatorRegion: California
- CreatorWorkEmail: krylov@gmail.com
- CreatorWorkTelephone: 650-534-7176
- Location: Northbeach
- XMP-lr
- HierarchicalSubject: 2010, Krylov Kirill, Places|California, Places|Los Angeles, USA, Venice Beach
- XMP-tiff
- BitsPerSample: 16, 16, 16
- XMP-xmp
- CreateDate: 2010:05:27 13:51:50-07:00
- Label: San Francisco 2007
- ModifyDate: 2010:05:27 13:51:50-07:00
- XMP-xmpMM
- DerivedFrom:
- XMP-xmpRights
- Просмотров: 739
- Рейтинг: голосов еще нет
- Отзывов: 0