- Раздел: Тесты фототехники
- Дата съёмки: 15.05.2011 08:12
- Дата загрузки фото: 03.06.2011 04:53
- Оригинальная фотография: 1536 x 1024 (593 Кб)
- Технические характеристики:
- Фотоаппарат: Sony DSLR-A900
- Выдержка: 1/125
- Гиперфокальное расстояние: inf m
- Диафрагма: 11,0
- Светочувствительность: 320
- Фокусное расстояние: 35,0 mm (35 mm equivalent: 35,0 mm)
- Полный EXIF
- Adobe
- ColorTransform: YCbCr
- Composite
- Aperture: 11,0
- CircleOfConfusion: 0,030 mm
- FOV: 54,0 deg
- FocalLength35efl: 35,0 mm (35 mm equivalent: 35,0 mm)
- HyperfocalDistance: inf m
- ScaleFactor35efl: 1,0
- ShutterSpeed: 1/125
- ExifIFD
- ApertureValue: 11,0
- BrightnessValue: 7,37
- Contrast: Normal
- CreateDate: 2011:05:15 08:12:24
- CustomRendered: Normal
- DateTimeOriginal: 2011:05:15 08:12:24
- ExposureCompensation: 0
- ExposureMode: Auto
- ExposureProgram: Aperture-priority AE
- ExposureTime: 1/125
- FNumber: 11,0
- Flash: Off, Did not fire
- FocalLength: 35,0 mm
- FocalLengthIn35mmFormat: 35 mm
- ISO: 320
- LightSource: Unknown
- MaxApertureValue: 2,8
- MeteringMode: Multi-segment
- Saturation: Normal
- SceneCaptureType: Standard
- SceneType: Directly photographed
- Sharpness: Normal
- ShutterSpeedValue: 1/125
- WhiteBalance: Auto
- ICC-header
- ICC-meas
- ICC-view
- IFD0
- Artist: Kirill Krylov
- Copyright: all rights reserved by Kirill Krylov
- ImageDescription: SONY DSC
- Make: SONY
- Model: DSLR-A900
- ModifyDate: 2011:05:24 10:36:42
- Software: DSLR-A900 v2.00
- IPTC
- By-line: Kirill Krylov
- By-lineTitle: Photographer
- Caption-Abstract: SONY DSC
- City: San Francisco
- CopyrightNotice: all rights reserved by Kirill Krylov
- Country-PrimaryLocationName: USA
- Credit: Kirill Krylov
- DateCreated: 2011:04:08
- Keywords: geology
- OriginalTransmissionReference: photographer
- Province-State: CA
- Sub-location: Point Reyes, CA
- Writer-Editor: Landscape
- System
- XMP-crs
- AlreadyApplied: True
- BlueHue: 0
- BlueSaturation: 0
- Brightness: +34
- CameraProfile: ACR 4.6
- ChromaticAberrationB: 0
- ChromaticAberrationR: 0
- Clarity: +35
- ColorNoiseReduction: 25
- Contrast: +66
- ConvertToGrayscale: False
- Defringe: 0
- Exposure: -0.05
- FillLight: 26
- GreenHue: 0
- GreenSaturation: 0
- HasCrop: False
- HasSettings: True
- HighlightRecovery: 26
- HueAdjustmentAqua: 0
- HueAdjustmentBlue: 0
- HueAdjustmentGreen: 0
- HueAdjustmentMagenta: 0
- HueAdjustmentOrange: 0
- HueAdjustmentPurple: 0
- HueAdjustmentRed: 0
- HueAdjustmentYellow: 0
- LuminanceAdjustmentAqua: 0
- LuminanceAdjustmentBlue: 0
- LuminanceAdjustmentGreen: 0
- LuminanceAdjustmentMagenta: 0
- LuminanceAdjustmentOrange: 0
- LuminanceAdjustmentPurple: 0
- LuminanceAdjustmentRed: 0
- LuminanceAdjustmentYellow: 0
- LuminanceSmoothing: 0
- ParametricDarks: 0
- ParametricHighlightSplit: 75
- ParametricHighlights: 0
- ParametricLights: 0
- ParametricMidtoneSplit: 50
- ParametricShadowSplit: 25
- ParametricShadows: 0
- PostCropVignetteAmount: 0
- RawFileName: _DSC9698.ARW
- RedHue: 0
- RedSaturation: 0
- Saturation: +15
- SaturationAdjustmentAqua: 0
- SaturationAdjustmentBlue: 0
- SaturationAdjustmentGreen: 0
- SaturationAdjustmentMagenta: 0
- SaturationAdjustmentOrange: 0
- SaturationAdjustmentPurple: 0
- SaturationAdjustmentRed: 0
- SaturationAdjustmentYellow: 0
- ShadowTint: 0
- Shadows: 1
- SharpenDetail: 25
- SharpenEdgeMasking: 14
- SharpenRadius: +1.3
- Sharpness: 38
- SplitToningBalance: 0
- SplitToningHighlightHue: 0
- SplitToningHighlightSaturation: 0
- SplitToningShadowHue: 0
- SplitToningShadowSaturation: 0
- Temperature: 4800
- Tint: +12
- ToneCurve: 0, 0, 32, 22, 64, 56, 128, 128, 192, 196, 255, 255
- ToneCurveName: Medium Contrast
- Version: 4.6
- Vibrance: +9
- VignetteAmount: 0
- WhiteBalance: As Shot
- XMP-dc
- Creator: Kirill Krylov
- Description: SONY DSC
- Rights: all rights reserved by Kirill Krylov
- Subject: geology
- XMP-exif
- DateTimeDigitized: 2011:05:15 08:12:24-07:00
- DateTimeOriginal: 2011:05:15 08:12:24-07:00
- ExifImageHeight: 1024
- ExifImageWidth: 1536
- FlashFired: False
- FlashFunction: False
- FlashMode: Off
- FlashRedEyeMode: False
- FlashReturn: No return detection
- XMP-iptcCore
- CreatorAddress: 655 Heather court
- CreatorCity: Pacifica
- CreatorCountry: USA
- CreatorPostalCode: 94044
- CreatorRegion: California
- CreatorWorkEmail: krylov@gmail.com
- CreatorWorkTelephone: 650-5347176
- CreatorWorkURL: www.kirillkrylov.com
- Location: Point Reyes, CA
- XMP-tiff
- ImageHeight: 1024
- ImageWidth: 1536
- XMP-xmp
- CreateDate: 2011:05:15 08:12:24-07:00
- CreatorTool: DSLR-A900 v2.00
- ModifyDate: 2011:05:24 10:36:42-07:00
- Rating: 4
- XMP-xmpRights
- Просмотров: 590
- Рейтинг: голосов еще нет
- Отзывов: 0