CD-R и CD-RW привод Asus, дно
Старый привод для чтения CD-R и CD-RW дисков, поддержки записи нет. Может самостоятельно воспроизводить Audio-CD (и наверное и RW тоже, не поверял), нужно только подать питание и аудио выводиться на гнездо для наушников и, вероятно, сзади на аналоговый и цифровой выходы. При этом громкость управляется небольшим переменным резистором, а двумя кнопками осуществляется переключение треков и пауза/воспроизведение. Перемотки по треку нет. И конечно же можно остановить диск и извлечь его, как и на обычном дисководе.
Только вот в моменты тишины в музыке в наушниках тихо слышны помехи от позиционирования лазера по диску.
- Раздел: Хобби
- Дата съёмки: неизвестно
- Дата загрузки фото: 13.11.2016 19:30
- Оригинальная фотография: 3953 x 3087 (3,1 Мб)
- Технические характеристики:
- Фотоаппарат: Canon EOS 600D
- Выдержка: 1/100
- Гиперфокальное расстояние: inf m
- Диафрагма: 18,0
- Светочувствительность: 100
- Фокусное расстояние: 48,0 mm (35 mm equivalent: 48,0 mm)
- Полный EXIF
- Adobe
- ColorTransform: YCbCr
- Composite
- Aperture: 18,0
- CircleOfConfusion: 0,015 mm
- FOV: 41,0 deg
- FocalLength35efl: 48,0 mm (35 mm equivalent: 48,0 mm)
- HyperfocalDistance: inf m
- LensID: Canon EF-S 18-55mm f/3.5-5.6 IS II
- ScaleFactor35efl: 2,0
- ShutterSpeed: 1/100
- ExifIFD
- ApertureValue: 18,0
- ColorSpace: sRGB
- CreateDate: 2016:11:13 01:21:48
- CustomRendered: Normal
- DateTimeOriginal: 2016:11:13 01:21:48
- ExposureCompensation: 0
- ExposureMode: Manual
- ExposureProgram: Manual
- ExposureTime: 1/100
- FNumber: 18,0
- Flash: On, Fired
- FocalLength: 48,0 mm
- ISO: 100
- LensInfo: 18-55mm f/?
- LensModel: EF-S18-55mm f/3.5-5.6 IS II
- LensSerialNumber: 000030fbf1
- MaxApertureValue: 5,4
- MeteringMode: Multi-segment
- RecommendedExposureIndex: 100
- SceneCaptureType: Standard
- SensitivityType: Recommended Exposure Index
- SerialNumber: 248076176521
- ShutterSpeedValue: 1/100
- WhiteBalance: Auto
- ICC-header
- ICC-meas
- ICC-view
- IFD0
- Make: Canon
- Model: Canon EOS 600D
- ModifyDate: 2016:11:13 18:05:55
- IFD1
- IPTC
- DateCreated: 2016:11:13
- System
- XMP-aux
- ApproximateFocusDistance: 0,66
- Firmware: 1.0.2
- FlashCompensation: 0,666666666666667
- ImageNumber: 0
- Lens: EF-S18-55mm f/3.5-5.6 IS II
- LensID: 52
- XMP-crs
- AlreadyApplied: True
- AutoLateralCA: 0
- AutoWhiteVersion: 134348800
- Blacks2012: 0
- BlueHue: 0
- BlueSaturation: 0
- CameraProfile: Embedded
- Clarity2012: 0
- ColorNoiseReduction: 20
- ColorNoiseReductionDetail: 50
- ColorNoiseReductionSmoothness: 50
- Contrast2012: 0
- ConvertToGrayscale: False
- CropAngle: 0
- CropBottom: 0.957924
- CropConstrainToWarp: 0
- CropLeft: 0.114018
- CropRight: 0.876636
- CropTop: 0.064516
- DefringeGreenAmount: 0
- DefringeGreenHueHi: 60
- DefringeGreenHueLo: 40
- DefringePurpleAmount: 0
- DefringePurpleHueHi: 70
- DefringePurpleHueLo: 30
- Exposure2012: +0.37
- GrainAmount: 0
- GreenHue: 0
- GreenSaturation: 0
- HasCrop: True
- HasSettings: True
- Highlights2012: 0
- HueAdjustmentAqua: 0
- HueAdjustmentBlue: 0
- HueAdjustmentGreen: 0
- HueAdjustmentMagenta: 0
- HueAdjustmentOrange: 0
- HueAdjustmentPurple: 0
- HueAdjustmentRed: 0
- HueAdjustmentYellow: 0
- IncrementalTemperature: 0
- IncrementalTint: 0
- LensManualDistortionAmount: 0
- LensProfileEnable: 0
- LensProfileSetup: LensDefaults
- LuminanceAdjustmentAqua: 0
- LuminanceAdjustmentBlue: 0
- LuminanceAdjustmentGreen: 0
- LuminanceAdjustmentMagenta: 0
- LuminanceAdjustmentOrange: 0
- LuminanceAdjustmentPurple: 0
- LuminanceAdjustmentRed: 0
- LuminanceAdjustmentYellow: 0
- LuminanceSmoothing: 0
- ParametricDarks: 0
- ParametricHighlightSplit: 75
- ParametricHighlights: 0
- ParametricLights: 0
- ParametricMidtoneSplit: 50
- ParametricShadowSplit: 25
- ParametricShadows: 0
- PerspectiveAspect: 0
- PerspectiveHorizontal: 0
- PerspectiveRotate: 0.0
- PerspectiveScale: 100
- PerspectiveUpright: 0
- PerspectiveVertical: 0
- PostCropVignetteAmount: 0
- ProcessVersion: 6.7
- RedHue: 0
- RedSaturation: 0
- Saturation: 0
- SaturationAdjustmentAqua: 0
- SaturationAdjustmentBlue: 0
- SaturationAdjustmentGreen: 0
- SaturationAdjustmentMagenta: 0
- SaturationAdjustmentOrange: 0
- SaturationAdjustmentPurple: 0
- SaturationAdjustmentRed: 0
- SaturationAdjustmentYellow: 0
- ShadowTint: 0
- Shadows2012: 0
- SharpenDetail: 25
- SharpenEdgeMasking: 0
- SharpenRadius: +1.0
- Sharpness: 20
- SplitToningBalance: 0
- SplitToningHighlightHue: 0
- SplitToningHighlightSaturation: 0
- SplitToningShadowHue: 0
- SplitToningShadowSaturation: 0
- ToneCurve: 0, 0, 255, 255
- ToneCurveBlue: 0, 0, 255, 255
- ToneCurveGreen: 0, 0, 255, 255
- ToneCurveName: Linear
- ToneCurveName2012: Linear
- ToneCurvePV2012: 0, 0, 255, 255
- ToneCurvePV2012Blue: 0, 0, 255, 255
- ToneCurvePV2012Green: 0, 0, 255, 255
- ToneCurvePV2012Red: 0, 0, 255, 255
- ToneCurveRed: 0, 0, 255, 255
- Version: 8.7.1
- Vibrance: 0
- VignetteAmount: 0
- WhiteBalance: As Shot
- Whites2012: 0
- XMP-dc
- XMP-xmp
- CreateDate: 2016:11:13 01:21:48.91
- ModifyDate: 2016:11:13 18:05:55+02:00
- XMP-xmpMM
- Просмотров: 733
- Рейтинг: голосов еще нет
- Отзывов: 0
Получить код для блога
Вставка фотографии в текущем разрешении |
Вставка миниатюры |
HTML (для вставки в блог):
BBCode (для вставки в форум):
Ссылка на фото:
Ссылка на миниатюру:
- Послать ссылку другу
Комментарии к фотографии |