Уважаемые друзья и участники проекта iXBT.photo! К сожалению, 1 марта 2026 года проект iXBT.photo прекратит свою работу и будет закрыт. Мы высоко ценим ваше участие и тот вклад, который вы внесли в развитие нашего сообщества. Пожалуйста, не забудьте сохранить ваши фотографии до этой даты.
С уважением, команда iXBT.com
| летят журавли |
летят журавли
- Раздел: Тесты фототехники
- Дата съёмки: 04.12.2009 08:38
- Дата загрузки фото: 03.06.2011 04:33
- Оригинальная фотография: 800 x 554 ( 86 Кб)
- Технические характеристики:
- Фотоаппарат: Olympus E-3
- Выдержка: 1/1600
- Диафрагма: 3,5
- Светочувствительность: 200
- Фокусное расстояние: 300,0 mm
- Полный EXIF
- Adobe
- ColorTransform: YCbCr
- Composite
- Aperture: 3,5
- FocalLength35efl: 300,0 mm
- ShutterSpeed: 1/1600
- ExifIFD
- ApertureValue: 3,5
- CFAPattern: [Red,Green][Green,Blue]
- ColorSpace: sRGB
- Contrast: Normal
- CreateDate: 2009:12:04 08:38:13
- CustomRendered: Normal
- DateTimeOriginal: 2009:12:04 08:38:13
- DigitalZoomRatio: 1
- ExifImageHeight: 554
- ExifImageWidth: 800
- ExposureCompensation: 0
- ExposureMode: Auto
- ExposureProgram: Aperture-priority AE
- ExposureTime: 1/1600
- FNumber: 3,5
- Flash: Auto, Did not fire
- FocalLength: 300,0 mm
- GainControl: Low gain up
- ISO: 200
- LightSource: Unknown
- MaxApertureValue: 2,8
- MeteringMode: Center-weighted average
- Saturation: High
- SceneCaptureType: Standard
- Sharpness: Hard
- ShutterSpeedValue: 1/1600
- WhiteBalance: Auto
- ICC-header
- ICC-meas
- ICC-view
- IFD0
- Artist: Kirill Krylov
- BitsPerSample: 16 16 16
- Copyright: All rights reserved by Kirill Krylov
- ImageDescription: OLYMPUS DIGITAL CAMERA
- ImageHeight: 2300
- ImageWidth: 3202
- Make: OLYMPUS IMAGING CORP.
- Model: E-3
- ModifyDate: 2010:04:07 19:11:53
- Orientation: Horizontal (normal)
- PhotometricInterpretation: RGB
- PlanarConfiguration: Chunky
- SamplesPerPixel: 3
- IFD1
- IPTC
- By-line: Kirill Krylov
- Caption-Abstract: OLYMPUS DIGITAL CAMERA
- CopyrightNotice: All rights reserved by Kirill Krylov
- Keywords: Kirill Krylov
- System
- XMP-aux
- FlashCompensation: 0
- Lens: 300.0 mm f/2.8
- LensInfo: 300mm f/2.8
- LensSerialNumber: 030001633
- SerialNumber: D69504780
- XMP-crs
- AlreadyApplied: True
- BlueHue: 0
- BlueSaturation: 0
- Brightness: +13
- ChromaticAberrationB: 0
- ChromaticAberrationR: 0
- Clarity: +56
- ColorNoiseReduction: 25
- ColorNoiseReductionDetail: 50
- Contrast: +50
- ConvertToGrayscale: False
- CropAngle: 0
- CropBottom: 0.840555
- CropHeight: 2300
- CropLeft: 0
- CropRight: 0.877763
- CropTop: 0
- CropUnit: pixels
- CropWidth: 3202
- Defringe: 0
- Exposure: 0.00
- FillLight: 6
- GrainAmount: 0
- GreenHue: 0
- GreenSaturation: 0
- HasCrop: True
- HasSettings: True
- HighlightRecovery: 16
- HueAdjustmentAqua: 0
- HueAdjustmentBlue: 0
- HueAdjustmentGreen: 0
- HueAdjustmentMagenta: 0
- HueAdjustmentOrange: 0
- HueAdjustmentPurple: 0
- HueAdjustmentRed: 0
- HueAdjustmentYellow: 0
- LuminanceAdjustmentAqua: 0
- LuminanceAdjustmentBlue: 0
- LuminanceAdjustmentGreen: 0
- LuminanceAdjustmentMagenta: 0
- LuminanceAdjustmentOrange: 0
- LuminanceAdjustmentPurple: 0
- LuminanceAdjustmentRed: 0
- LuminanceAdjustmentYellow: 0
- LuminanceNoiseReductionContrast: 0
- LuminanceNoiseReductionDetail: 50
- LuminanceSmoothing: 9
- ParametricDarks: 0
- ParametricHighlightSplit: 75
- ParametricHighlights: 0
- ParametricLights: 0
- ParametricMidtoneSplit: 50
- ParametricShadowSplit: 25
- ParametricShadows: 0
- PostCropVignetteAmount: 0
- ProcessVersion: 5.7
- RedHue: 0
- RedSaturation: 0
- Saturation: +8
- SaturationAdjustmentAqua: 0
- SaturationAdjustmentBlue: 0
- SaturationAdjustmentGreen: 0
- SaturationAdjustmentMagenta: 0
- SaturationAdjustmentOrange: 0
- SaturationAdjustmentPurple: 0
- SaturationAdjustmentRed: 0
- SaturationAdjustmentYellow: 0
- ShadowTint: 0
- Shadows: 27
- SharpenDetail: 50
- SharpenEdgeMasking: 8
- SharpenRadius: +0.8
- Sharpness: 31
- SplitToningBalance: 0
- SplitToningHighlightHue: 0
- SplitToningHighlightSaturation: 0
- SplitToningShadowHue: 0
- SplitToningShadowSaturation: 0
- Temperature: 4850
- Tint: +1
- ToneCurve: 0, 0, 32, 22, 64, 56, 128, 128, 192, 196, 255, 255
- ToneCurveName: Medium Contrast
- Version: 6.0
- Vibrance: +13
- VignetteAmount: 0
- WhiteBalance: As Shot
- XMP-dc
- Creator: Kirill Krylov
- Description: OLYMPUS DIGITAL CAMERA
- Format: image/jpeg
- Rights: All rights reserved by Kirill Krylov
- Subject: Kirill Krylov
- XMP-exif
- DateTimeDigitized: 2009:12:04 08:38:13-08:00
- DateTimeOriginal: 2009:12:04 08:38:13-08:00
- FlashFired: False
- FlashFunction: False
- FlashMode: Auto
- FlashRedEyeMode: False
- FlashReturn: No return detection
- XMP-iptcCore
- CreatorAddress: 655 Heather court
- CreatorCity: Pacifica
- CreatorCountry: USA
- CreatorPostalCode: 94044
- CreatorRegion: California
- CreatorWorkTelephone: 650 5347176
- XMP-lr
- HierarchicalSubject: Kirill Krylov
- XMP-tiff
- BitsPerSample: 16, 16, 16
- ImageHeight: 3707
- ImageWidth: 5357
- XMP-xmp
- CreateDate: 2010:04:07 19:11:53-07:00
- Label: Red
- ModifyDate: 2010:04:07 19:11:53-07:00
- Rating: 5
- XMP-xmpMM
Получить код для блога
| Вставка фотографии в текущем разрешении |
Вставка миниатюры |
HTML (для вставки в блог):
BBCode (для вставки в форум):
Ссылка на фото:
Ссылка на миниатюру:
- Послать ссылку другу
| Комментарии к фотографии |