- Раздел: Тесты фототехники
- Дата съёмки: 06.12.2009 09:06
- Дата загрузки фото: 03.06.2011 04:32
- Оригинальная фотография: 800 x 580 ( 95 Кб)
- Технические характеристики:
- Фотоаппарат: Sony DSLR-A900
- Выдержка: 1/6400
- Гиперфокальное расстояние: inf m
- Диафрагма: 6,3
- Светочувствительность: 320
- Фокусное расстояние: 400,0 mm (35 mm equivalent: 400,0 mm)
- Экспокоррекция: -0,7
- Полный EXIF
- Adobe
- ColorTransform: YCbCr
- Composite
- Aperture: 6,3
- CircleOfConfusion: 0,030 mm
- FOV: 5,0 deg
- FocalLength35efl: 400,0 mm (35 mm equivalent: 400,0 mm)
- HyperfocalDistance: inf m
- ScaleFactor35efl: 1,0
- ShutterSpeed: 1/6400
- ExifIFD
- ApertureValue: 6,3
- BrightnessValue: 10,75
- ColorSpace: sRGB
- Contrast: Normal
- CreateDate: 2009:12:06 09:06:49
- CustomRendered: Normal
- DateTimeOriginal: 2009:12:06 09:06:49
- ExifImageHeight: 580
- ExifImageWidth: 800
- ExposureCompensation: -0,7
- ExposureMode: Auto
- ExposureProgram: Aperture-priority AE
- ExposureTime: 1/6400
- FNumber: 6,3
- Flash: Off, Did not fire
- FocalLength: 400,0 mm
- FocalLengthIn35mmFormat: 400 mm
- ISO: 320
- LightSource: Unknown
- MaxApertureValue: 5,6
- MeteringMode: Center-weighted average
- Saturation: Normal
- SceneCaptureType: Standard
- SceneType: Directly photographed
- Sharpness: Normal
- ShutterSpeedValue: 1/6400
- WhiteBalance: Auto
- ICC-header
- ICC-meas
- ICC-view
- IFD0
- Artist: Kirill Krylov
- BitsPerSample: 16 16 16
- Copyright: All rights reserved by Kirill Krylov
- ImageDescription: SONY DSC
- ImageHeight: 3318
- ImageWidth: 4579
- Make: SONY
- Model: DSLR-A900
- ModifyDate: 2010:04:07 18:48:57
- Orientation: Horizontal (normal)
- PhotometricInterpretation: RGB
- PlanarConfiguration: Chunky
- SamplesPerPixel: 3
- IFD1
- IPTC
- By-line: Kirill Krylov
- Caption-Abstract: SONY DSC
- CopyrightNotice: All rights reserved by Kirill Krylov
- Keywords: Kirill Krylov
- System
- XMP-aux
- Lens: 70-400mm F4.0-5.6 G SSM
- LensID: 53
- LensInfo: 70-400mm f/40-56
- XMP-crs
- AlreadyApplied: True
- BlueHue: 0
- BlueSaturation: 0
- Brightness: +44
- ChromaticAberrationB: 0
- ChromaticAberrationR: 0
- Clarity: +60
- ColorNoiseReduction: 25
- ColorNoiseReductionDetail: 50
- Contrast: +77
- ConvertToGrayscale: False
- CropAngle: 0
- CropBottom: 0.950442
- CropHeight: 3318
- CropLeft: 0.099057
- CropRight: 0.856132
- CropTop: 0.127434
- CropUnit: pixels
- CropWidth: 4579
- Defringe: 0
- Exposure: +1.10
- FillLight: 20
- GrainAmount: 0
- GreenHue: 0
- GreenSaturation: 0
- HasCrop: True
- HasSettings: True
- HighlightRecovery: 0
- HueAdjustmentAqua: 0
- HueAdjustmentBlue: 0
- HueAdjustmentGreen: 0
- HueAdjustmentMagenta: 0
- HueAdjustmentOrange: 0
- HueAdjustmentPurple: 0
- HueAdjustmentRed: 0
- HueAdjustmentYellow: 0
- LuminanceAdjustmentAqua: 0
- LuminanceAdjustmentBlue: 0
- LuminanceAdjustmentGreen: 0
- LuminanceAdjustmentMagenta: 0
- LuminanceAdjustmentOrange: 0
- LuminanceAdjustmentPurple: 0
- LuminanceAdjustmentRed: 0
- LuminanceAdjustmentYellow: 0
- LuminanceNoiseReductionContrast: 0
- LuminanceNoiseReductionDetail: 50
- LuminanceSmoothing: 11
- ParametricDarks: 0
- ParametricHighlightSplit: 75
- ParametricHighlights: 0
- ParametricLights: 0
- ParametricMidtoneSplit: 50
- ParametricShadowSplit: 25
- ParametricShadows: 0
- PostCropVignetteAmount: 0
- ProcessVersion: 5.7
- RedHue: 0
- RedSaturation: 0
- Saturation: +6
- SaturationAdjustmentAqua: 0
- SaturationAdjustmentBlue: 0
- SaturationAdjustmentGreen: 0
- SaturationAdjustmentMagenta: 0
- SaturationAdjustmentOrange: 0
- SaturationAdjustmentPurple: 0
- SaturationAdjustmentRed: 0
- SaturationAdjustmentYellow: 0
- ShadowTint: 0
- Shadows: 0
- SharpenDetail: 50
- SharpenEdgeMasking: 7
- SharpenRadius: +0.8
- Sharpness: 30
- SplitToningBalance: 0
- SplitToningHighlightHue: 0
- SplitToningHighlightSaturation: 0
- SplitToningShadowHue: 0
- SplitToningShadowSaturation: 0
- Temperature: 4900
- Tint: +7
- ToneCurve: 0, 0, 32, 22, 64, 56, 128, 128, 192, 196, 255, 255
- ToneCurveName: Medium Contrast
- Version: 6.0
- Vibrance: +15
- VignetteAmount: 0
- WhiteBalance: As Shot
- XMP-dc
- Creator: Kirill Krylov
- Description: SONY DSC
- Format: image/jpeg
- Rights: All rights reserved by Kirill Krylov
- Subject: Kirill Krylov
- XMP-exif
- DateTimeDigitized: 2009:12:06 09:06:49-08:00
- DateTimeOriginal: 2009:12:06 09:06:49-08:00
- FlashFired: False
- FlashFunction: False
- FlashMode: Off
- FlashRedEyeMode: False
- FlashReturn: No return detection
- XMP-iptcCore
- CreatorAddress: 655 Heather court
- CreatorCity: Pacifica
- CreatorCountry: USA
- CreatorPostalCode: 94044
- CreatorRegion: California
- CreatorWorkTelephone: 650 5347176
- XMP-lr
- HierarchicalSubject: Kirill Krylov
- XMP-tiff
- BitsPerSample: 16, 16, 16
- XMP-xmp
- CreateDate: 2010:04:07 18:48:57-07:00
- Label: Red
- ModifyDate: 2010:04:07 18:48:57-07:00
- Rating: 5
- XMP-xmpMM