- Раздел: Тесты фототехники
- Дата съёмки: 10.03.2009 14:15
- Дата загрузки фото: 03.06.2011 04:39
- Оригинальная фотография: 572 x 780 (178 Кб)
- Технические характеристики:
- Фотоаппарат: Sony DSLR-A900
- Выдержка: 1/640
- Гиперфокальное расстояние: inf m
- Диафрагма: 9,0
- Светочувствительность: 200
- Фокусное расстояние: 135,0 mm (35 mm equivalent: 135,0 mm)
- Полный EXIF
- Adobe
- ColorTransform: YCbCr
- Composite
- Aperture: 9,0
- CircleOfConfusion: 0,030 mm
- FOV: 15,0 deg
- FocalLength35efl: 135,0 mm (35 mm equivalent: 135,0 mm)
- HyperfocalDistance: inf m
- ScaleFactor35efl: 1,0
- ShutterSpeed: 1/640
- ExifIFD
- ApertureValue: 9,0
- BrightnessValue: 10
- Contrast: Normal
- CreateDate: 2009:03:10 14:15:33
- CustomRendered: Normal
- DateTimeOriginal: 2009:03:10 14:15:33
- ExposureCompensation: 0
- ExposureMode: Auto
- ExposureProgram: Program AE
- ExposureTime: 1/640
- FNumber: 9,0
- Flash: Off, Did not fire
- FocalLength: 135,0 mm
- FocalLengthIn35mmFormat: 135 mm
- ISO: 200
- LightSource: Unknown
- MaxApertureValue: 2,8
- MeteringMode: Multi-segment
- Saturation: Normal
- SceneCaptureType: Standard
- SceneType: Directly photographed
- Sharpness: Normal
- ShutterSpeedValue: 1/640
- WhiteBalance: Auto
- ICC-header
- ICC-meas
- ICC-view
- IFD0
- Artist: Kirill Krylov
- Copyright: all wrights reserved by Kirill Krylov
- ImageDescription: San Francisco
- Make: SONY
- Model: DSLR-A900
- ModifyDate: 2009:10:20 21:35:03
- Software: DSLR-A900 v1.00
- IFD1
- IPTC
- By-line: Kirill Krylov
- Caption-Abstract: San Francisco
- City: San Francisco
- CopyrightNotice: all wrights reserved by Kirill Krylov
- Country-PrimaryLocationName: USA
- DateCreated: 2007:11:20
- Keywords: Krylov Kirill, USA
- Province-State: California
- Sub-location: Northbeach
- System
- XMP-crs
- AlreadyApplied: True
- BlueHue: 0
- BlueSaturation: 0
- Brightness: +61
- ChromaticAberrationB: 0
- ChromaticAberrationR: 0
- Clarity: +22
- ColorNoiseReduction: 25
- Contrast: +50
- ConvertToGrayscale: False
- CropAngle: 0
- CropBottom: 1
- CropHeight: 572
- CropLeft: 0
- CropRight: 0.909722
- CropTop: 0
- CropUnit: pixels
- CropWidth: 780
- Defringe: 0
- Exposure: +0.45
- FillLight: 9
- GreenHue: 0
- GreenSaturation: 0
- HasCrop: True
- HasSettings: True
- HighlightRecovery: 0
- HueAdjustmentAqua: 0
- HueAdjustmentBlue: 0
- HueAdjustmentGreen: 0
- HueAdjustmentMagenta: 0
- HueAdjustmentOrange: 0
- HueAdjustmentPurple: 0
- HueAdjustmentRed: 0
- HueAdjustmentYellow: 0
- LuminanceAdjustmentAqua: 0
- LuminanceAdjustmentBlue: 0
- LuminanceAdjustmentGreen: 0
- LuminanceAdjustmentMagenta: 0
- LuminanceAdjustmentOrange: 0
- LuminanceAdjustmentPurple: 0
- LuminanceAdjustmentRed: 0
- LuminanceAdjustmentYellow: 0
- LuminanceSmoothing: 0
- ParametricDarks: 0
- ParametricHighlightSplit: 75
- ParametricHighlights: 0
- ParametricLights: 0
- ParametricMidtoneSplit: 50
- ParametricShadowSplit: 25
- ParametricShadows: 0
- PostCropVignetteAmount: 0
- RedHue: 0
- RedSaturation: 0
- Saturation: +4
- SaturationAdjustmentAqua: 0
- SaturationAdjustmentBlue: 0
- SaturationAdjustmentGreen: 0
- SaturationAdjustmentMagenta: 0
- SaturationAdjustmentOrange: 0
- SaturationAdjustmentPurple: 0
- SaturationAdjustmentRed: 0
- SaturationAdjustmentYellow: 0
- ShadowTint: 0
- Shadows: 5
- SharpenDetail: 25
- SharpenEdgeMasking: 0
- SharpenRadius: +1.0
- Sharpness: 25
- SplitToningBalance: 0
- SplitToningHighlightHue: 0
- SplitToningHighlightSaturation: 0
- SplitToningShadowHue: 0
- SplitToningShadowSaturation: 0
- Temperature: 4900
- Tint: +7
- ToneCurve: 0, 0, 32, 22, 64, 56, 128, 128, 192, 196, 255, 255
- ToneCurveName: Medium Contrast
- Version: 5.5
- Vibrance: +8
- VignetteAmount: 0
- WhiteBalance: As Shot
- XMP-dc
- Creator: Kirill Krylov
- Description: San Francisco
- Rights: all wrights reserved by Kirill Krylov
- Subject: Krylov Kirill, USA
- XMP-exif
- DateTimeDigitized: 2009:03:10 14:15:33-07:00
- DateTimeOriginal: 2009:03:10 14:15:33-07:00
- ExifImageHeight: 780
- ExifImageWidth: 572
- FlashFired: False
- FlashFunction: False
- FlashMode: Off
- FlashRedEyeMode: False
- FlashReturn: No return detection
- XMP-iptcCore
- CreatorAddress: 655 Heather court
- CreatorCity: Pacifica
- CreatorCountry: USA
- CreatorPostalCode: 94044
- CreatorRegion: California
- CreatorWorkEmail: krylov@gmail.com
- CreatorWorkTelephone: 650-534-7176
- Location: Northbeach
- XMP-tiff
- ImageHeight: 780
- ImageWidth: 572
- XMP-xmp
- CreateDate: 2009:03:10 14:15:33-07:00
- Label: San Francisco 2007
- ModifyDate: 2009:10:20 21:35:03-07:00
- XMP-xmpRights